Workbook
Name ABRILINSU: 'INSUMOS JULIO'!$CO$110
Name ABRILMAQUI: MAQUINARIA!$AD$28
Name CONSOLFAC: 'RECARGA ASPERSORES'!$O$58
Name CONSOLFAC: #REF!
Name INSUMOABRIL: 'CONSOLIDADO POR SEDE JUNIO'!#REF!
Name INSUMOABRIL: 'CONSOLIDADO POR SEDE'!$L$1632
Name INSUMOFEBRERO: '[1]INSUMO POR SEDES MARZO'!$CO$110

Sheet CONSOLIDADO POR SEDE
A2: 1 | D2: 4 | E2: 5 | F2: 8 | G2: 9 | I2: 10
F4: CRA 8 No. 10-65
A5: ITEMS | B5: COD | C5: COD RUBRO | D5: PRODUCTO | E5: SEDE | F5: CANTIDAD | G5: VALOR UNITARIO NEGOCIACION | H5: VALOR UNITARIO FULL | I5: VALOR TOTAL | J5: AIU | K5: IVA | L5: GRAN TOTAL
A6: 1 | B6: 17 | C6: Jabones líquidos para lavar | D6: Jabón para loza 1 (Compra) | E6: SEDE 1 - MANZANA LIEVANO - ALCALDÍA MAYOR | F6: =INDEX('PEDIDO JULIO'!A10:AF32,1,8) -> 0 | G6: =IFERROR(VLOOKUP($B6,'[1]INSUMO POR SEDES MARZO PRUEBA'!$B$6:$CD$109,8,0),"NO BD") -> 5647.023 | H6: =IFERROR(VLOOKUP($B6,'[1]INSUMO POR SEDES MARZO PRUEBA'!$B$6:$CD$109,8,0),"NO BD") -> 5647.023 | I6: =+F6*G6 -> 0 | J6: =+I6*10% -> 0 | K6: =+J6*19% -> 0 | L6: =SUM(I6:K6) -> 0
A7: 2 | B7: 20 | C7: Jabones en pasta para lavar | D7: Jabón para loza 3 (Compra) | E7: Suma de SEDE 1 - MANZANA LIEVANO - ALCALDÍA MAYOR | F7: =INDEX('PEDIDO JULIO'!A10:AF32,1,8) -> 0 | G7: =IFERROR(VLOOKUP($B7,'[1]INSUMO POR SEDES MARZO PRUEBA'!$B$6:$CD$109,8,0),"NO BD") -> 0 | I7: =+F7*G7 -> 0 | J7: =+I7*10% -> 0 | K7: =+J7*19% -> 0 | L7: =SUM(I7:K7) -> 0
A8: 3 | B8: 21 | C8: Jabones en pasta para lavar | D8: Jabón en barra azul (Compra) | E8: Suma de SEDE 1 - MANZANA LIEVANO - ALCALDÍA MAYOR | F8: =INDEX('PEDIDO JULIO'!A10:AF33,1,8) -> 0 | G8: =IFERROR(VLOOKUP($B8,'[1]INSUMO POR SEDES MARZO PRUEBA'!$B$6:$CD$109,8,0),"NO BD") -> 5932.895 | I8: =+F8*G8 -> 0 | J8: =+I8*10% -> 0 | K8: =+J8*19% -> 0 | L8: =SUM(I8:K8) -> 0
A9: 4 | B9: 28 | C9: Detergentes en polvo | D9: Jabón abrasivo (Compra) | E9: Suma de SEDE 1 - MANZANA LIEVANO - ALCALDÍA MAYOR | F9: =INDEX('PEDIDO JULIO'!A10:AF33,1,8) -> 0 | G9: =IFERROR(VLOOKUP($B9,'[1]INSUMO POR SEDES MARZO PRUEBA'!$B$6:$CD$109,8,0),"NO BD") -> 2764.13 | I9: =+F9*G9 -> 0 | J9: =+I9*10% -> 0 | K9: =+J9*19% -> 0 | L9: =SUM(I9:K9) -> 0
A10: 5 | B10: 29 | C10: Jabones industriales | D10: Jabón de tocador 2 (Compra) | E10: Suma de SEDE 1 - MANZANA LIEVANO - ALCALDÍA MAYOR | F10: =INDEX('PEDIDO JULIO'!A11:AF33,1,8) -> 0 | G10: =IFERROR(VLOOKUP($B10,'[1]INSUMO POR SEDES MARZO PRUEBA'!$B$6:$CD$109,8,0),"NO BD") -> 4829.345 | I10: =+F10*G10 -> 0 | J10: =+I10*10% -> 0 | K10: =+J10*19% -> 0 | L10: =SUM(I10:K10) -> 0
A11: 6 | B11: 32 | C11: Jabones de tocador | D11: Jabón de dispensador para manos 2 (Compra) | E11: Suma de SEDE 1 - MANZANA LIEVANO - ALCALDÍA MAYOR | F11: =INDEX('PEDIDO JULIO'!A12:AF33,1,8) -> 20 | G11: =IFERROR(VLOOKUP($B11,'[1]INSUMO POR SEDES MARZO PRUEBA'!$B$6:$CD$109,8,0),"NO BD") -> 4115.716 | I11: =+F11*G11 -> 82314.32 | J11: =+I11*10% -> 8231.432 | K11: =+J11*19% -> 1563.9721 | L11: =SUM(I11:K11) -> 92109.724
A12: 7 | B12: 38 | C12: Productos químicos especiales para tratamiento de pisos | D12: Limpiador multiusos 1 (Compra) | E12: Suma de SEDE 1 - MANZANA LIEVANO - ALCALDÍA MAYOR | F12: =INDEX('PEDIDO JULIO'!A12:AF33,1,8) -> 20 | G12: =IFERROR(VLOOKUP($B12,'[1]INSUMO POR SEDES MARZO PRUEBA'!$B$6:$CD$109,8,0),"NO BD") -> 11100.662 | I12: =+F12*G12 -> 222013.24 | J12: =+I12*10% -> 22201.324 | K12: =+J12*19% -> 4218.2516 | L12: =SUM(I12:K12) -> 248432.82
A13: 8 | B13: 44 | C13: Productos químicos especiales para tratamiento de pisos | D13: Limpiador desinfectante para pisos (Compra) | E13: Suma de SEDE 1 - MANZANA LIEVANO - ALCALDÍA MAYOR | F13: =INDEX('PEDIDO JULIO'!A13:AF34,1,8) -> 10 | G13: =IFERROR(VLOOKUP($B13,'[1]INSUMO POR SEDES MARZO PRUEBA'!$B$6:$CD$109,8,0),"NO BD") -> 2787.252 | I13: =+F13*G13 -> 27872.52 | J13: =+I13*10% -> 2787.252 | K13: =+J13*19% -> 529.57788 | L13: =SUM(I13:K13) -> 31189.35
A14: 9 | B14: 50 | C14: Preparaciones para limpieza y desengrase | D14: Líquido desengrasante (Compra) | E14: Suma de SEDE 1 - MANZANA LIEVANO - ALCALDÍA MAYOR | F14: =INDEX('PEDIDO JULIO'!A14:AF34,1,8) -> 0 | G14: =IFERROR(VLOOKUP($B14,'[1]INSUMO POR SEDES MARZO PRUEBA'!$B$6:$CD$109,8,0),"NO BD") -> 38567.496 | I14: =+F14*G14 -> 0 | J14: =+I14*10% -> 0 | K14: =+J14*19% -> 0 | L14: =SUM(I14:K14) -> 0
A15: 10 | B15: 52 | C15: Desinfectantes | D15: Pastilla desinfectante para sanitario (Compra) | E15: Suma de SEDE 1 - MANZANA LIEVANO - ALCALDÍA MAYOR | F15: =INDEX('PEDIDO JULIO'!A15:AF34,1,8) -> 0 | G15: =IFERROR(VLOOKUP($B15,'[1]INSUMO POR SEDES MARZO PRUEBA'!$B$6:$CD$109,8,0),"NO BD") -> 6412.151 | I15: =+F15*G15 -> 0 | J15: =+I15*10% -> 0 | K15: =+J15*19% -> 0 | L15: =SUM(I15:K15) -> 0
A16: 11 | B16: 57 | C16: Preparaciones para limpiar vidrios | D16: Líquido para limpiar vidrios 1 (Compra) | E16: Suma de SEDE 1 - MANZANA LIEVANO - ALCALDÍA MAYOR | F16: =INDEX('PEDIDO JULIO'!A16:AF34,1,8) -> 0 | G16: =IFERROR(VLOOKUP($B16,'[1]INSUMO POR SEDES MARZO PRUEBA'!$B$6:$CD$109,8,0),"NO BD") -> 12823.251 | I16: =+F16*G16 -> 0 | J16: =+I16*10% -> 0 | K16: =+J16*19% -> 0 | L16: =SUM(I16:K16) -> 0
A17: 12 | B17: 59 | C17: Hipoclorito de sodio | D17: Blanqueador o hipoclorito 1 (Compra) | E17: Suma de SEDE 1 - MANZANA LIEVANO - ALCALDÍA MAYOR | F17: =INDEX('PEDIDO JULIO'!A17:AF34,1,8) -> 60 | G17: =IFERROR(VLOOKUP($B17,'[1]INSUMO POR SEDES MARZO PRUEBA'!$B$6:$CD$109,8,0),"NO BD") -> 5528.26 | I17: =+F17*G17 -> 331695.6 | J17: =+I17*10% -> 33169.56 | K17: =+J17*19% -> 6302.2164 | L17: =SUM(I17:K17) -> 371167.38
A18: 13 | B18: 62 | C18: Desinfectantes | D18: Creolina 2 (Compra) | E18: Suma de SEDE 1 - MANZANA LIEVANO - ALCALDÍA MAYOR | F18: =INDEX('PEDIDO JULIO'!A17:AF34,1,8) -> 60 | G18: =IFERROR(VLOOKUP($B18,'[1]INSUMO POR SEDES MARZO PRUEBA'!$B$6:$CD$109,8,0),"NO BD") -> 5167.767 | I18: =+F18*G18 -> 310066.02 | J18: =+I18*10% -> 31006.602 | K18: =+J18*19% -> 5891.2544 | L18: =SUM(I18:K18) -> 346963.88
A19: 14 | B19: 63 | C19: Jabones líquidos para lavar | D19: Champú para alfombras y tapizados 1 (Compra) | E19: Suma de SEDE 1 - MANZANA LIEVANO - ALCALDÍA MAYOR | F19: =INDEX('PEDIDO JULIO'!A18:AF35,1,8) -> 0 | G19: =IFERROR(VLOOKUP($B19,'[1]INSUMO POR SEDES MARZO PRUEBA'!$B$6:$CD$109,8,0),"NO BD") -> 8292.39 | I19: =+F19*G19 -> 0 | J19: =+I19*10% -> 0 | K19: =+J19*19% -> 0 | L19: =SUM(I19:K19) -> 0
A20: 15 | B20: 64 | C20: Preparaciones para limpieza y desengrase | D20: Líquido cubre rasguños para madera (Compra) | E20: Suma de SEDE 1 - MANZANA LIEVANO - ALCALDÍA MAYOR | F20: =INDEX('PEDIDO JULIO'!A18:AF35,1,8) -> 0 | G20: =IFERROR(VLOOKUP($B20,'[1]INSUMO POR SEDES MARZO PRUEBA'!$B$6:$CD$109,8,0),"NO BD") -> 13820.65 | I20: =+F20*G20 -> 0 | J20: =+I20*10% -> 0 | K20: =+J20*19% -> 0 | L20: =SUM(I20:K20) -> 0
A21: 16 | B21: 65 | C21: Ceras para pisos | D21: Cera polimérica (Compra) | E21: Suma de SEDE 1 - MANZANA LIEVANO - ALCALDÍA MAYOR | F21: =INDEX('PEDIDO JULIO'!A18:AF35,1,8) -> 0 | G21: =IFERROR(VLOOKUP($B21,'[1]INSUMO POR SEDES MARZO PRUEBA'!$B$6:$CD$109,8,0),"NO BD") -> 13820.65 | I21: =+F21*G21 -> 0 | J21: =+I21*10% -> 0 | K21: =+J21*19% -> 0 | L21: =SUM(I21:K21) -> 0
A22: 17 | B22: 66 | C22: Productos químicos especiales para tratamiento de pisos | D22: Sellante para pisos (Compra) | E22: Suma de SEDE 1 - MANZANA LIEVANO - ALCALDÍA MAYOR | F22: =INDEX('PEDIDO JULIO'!A19:AF35,1,8) -> 0 | G22: =IFERROR(VLOOKUP($B22,'[1]INSUMO POR SEDES MARZO PRUEBA'!$B$6:$CD$109,8,0),"NO BD") -> 4178.9862 | I22: =+F22*G22 -> 0 | J22: =+I22*10% -> 0 | K22: =+J22*19% -> 0 | L22: =SUM(I22:K22) -> 0
A23: 18 | B23: 71 | C23: Productos químicos especiales para tratamiento de pisos | D23: Mantenedor de pisos (Compra) | E23: Suma de SEDE 1 - MANZANA LIEVANO - ALCALDÍA MAYOR | F23: =INDEX('PEDIDO JULIO'!A19:AF35,1,8) -> 0 | G23: =IFERROR(VLOOKUP($B23,'[1]INSUMO POR SEDES MARZO PRUEBA'!$B$6:$CD$109,8,0),"NO BD") -> 7960.6944 | I23: =+F23*G23 -> 0 | J23: =+I23*10% -> 0 | K23: =+J23*19% -> 0 | L23: =SUM(I23:K23) -> 0
A24: 19 | B24: 72 | C24: Productos químicos especiales para tratamiento de pisos | D24: Removedor de cera (Compra) | E24: Suma de SEDE 1 - MANZANA LIEVANO - ALCALDÍA MAYOR | F24: =INDEX('PEDIDO JULIO'!A20:AF35,1,8) -> 20 | G24: =IFERROR(VLOOKUP($B24,'[1]INSUMO POR SEDES MARZO PRUEBA'!$B$6:$CD$109,8,0),"NO BD") -> 5196.144 | I24: =+F24*G24 -> 103922.88 | J24: =+I24*10% -> 10392.288 | K24: =+J24*19% -> 1974.5347 | L24: =SUM(I24:K24) -> 116289.7
A25: 20 | B25: 73 | C25: Productos químicos especiales para tratamiento de pisos | D25: Jabón neutro para pisos 1 (Compra) | E25: Suma de SEDE 1 - MANZANA LIEVANO - ALCALDÍA MAYOR | F25: =INDEX('PEDIDO JULIO'!A20:AF35,1,8) -> 20 | G25: =IFERROR(VLOOKUP($B25,'[1]INSUMO POR SEDES MARZO PRUEBA'!$B$6:$CD$109,8,0),"NO BD") -> 4975.434 | I25: =+F25*G25 -> 99508.68 | J25: =+I25*10% -> 9950.868 | K25: =+J25*19% -> 1890.6649 | L25: =SUM(I25:K25) -> 111350.21
A26: 21 | B26: 74 | C26: Varsol-disolvente núm. 4 | D26: Varsol ecológico 2 (Compra) | E26: Suma de SEDE 1 - MANZANA LIEVANO - ALCALDÍA MAYOR | F26: =INDEX('PEDIDO JULIO'!A21:AF35,1,8) -> 0 | G26: =IFERROR(VLOOKUP($B26,'[1]INSUMO POR SEDES MARZO PRUEBA'!$B$6:$CD$109,8,0),"NO BD") -> 3261.253 | I26: =+F26*G26 -> 0 | J26: =+I26*10% -> 0 | K26: =+J26*19% -> 0 | L26: =SUM(I26:K26) -> 0
A27: 22 | B27: 79 | C27: Preparaciones para limpieza y desengrase | D27: Brillametal en crema (Compra) | E27: Suma de SEDE 1 - MANZANA LIEVANO - ALCALDÍA MAYOR | F27: =INDEX('PEDIDO JULIO'!A22:AF35,1,8) -> 0 | G27: =IFERROR(VLOOKUP($B27,'[1]INSUMO POR SEDES MARZO PRUEBA'!$B$6:$CD$109,8,0),"NO BD") -> 541.265 | I27: =+F27*G27 -> 0 | J27: =+I27*10% -> 0 | K27: =+J27*19% -> 0 | L27: =SUM(I27:K27) -> 0
A28: 23 | B28: 80 | C28: Purificadores líquidos de ambiente | D28: Ambientador 1 (Compra) | E28: Suma de SEDE 1 - MANZANA LIEVANO - ALCALDÍA MAYOR | F28: =INDEX('PEDIDO JULIO'!A23:AF36,1,8) -> 20 | G28: =IFERROR(VLOOKUP($B28,'[1]INSUMO POR SEDES MARZO PRUEBA'!$B$6:$CD$109,8,0),"NO BD") -> 433.012 | I28: =+F28*G28 -> 8660.24 | J28: =+I28*10% -> 866.024 | K28: =+J28*19% -> 164.54456 | L28: =SUM(I28:K28) -> 9690.8086
A29: 24 | B29: 81 | C29: Purificadores líquidos de ambiente | D29: Ambientador 2 (Compra) | E29: Suma de SEDE 1 - MANZANA LIEVANO - ALCALDÍA MAYOR | F29: =INDEX('PEDIDO JULIO'!A23:AF37,1,8) -> 20 | G29: =IFERROR(VLOOKUP($B29,'[1]INSUMO POR SEDES MARZO PRUEBA'!$B$6:$CD$109,8,0),"NO BD") -> 211.251 | I29: =+F29*G29 -> 4225.02 | J29: =+I29*10% -> 422.502 | K29: =+J29*19% -> 80.27538 | L29: =SUM(I29:K29) -> 4727.7974
A30: 25 | B30: 82 | C30: Solventes para insecticida | D30: Insecticida 1 (Compra) | E30: Suma de SEDE 1 - MANZANA LIEVANO - ALCALDÍA MAYOR | F30: =INDEX('PEDIDO JULIO'!A24:AF37,1,8) -> 40 | G30: =IFERROR(VLOOKUP($B30,'[1]INSUMO POR SEDES MARZO PRUEBA'!$B$6:$CD$109,8,0),"NO BD") -> 1003.705 | I30: =+F30*G30 -> 40148.2 | J30: =+I30*10% -> 4014.82 | K30: =+J30*19% -> 762.8158 | L30: =SUM(I30:K30) -> 44925.836
A31: 26 | B31: 83 | C31: Solventes para insecticida | D31: Insecticida 2 (Compra) | E31: Suma de SEDE 1 - MANZANA LIEVANO - ALCALDÍA MAYOR | F31: =INDEX('PEDIDO JULIO'!A25:AF37,1,8) -> 0 | G31: =IFERROR(VLOOKUP($B31,'[1]INSUMO POR SEDES MARZO PRUEBA'!$B$6:$CD$109,8,0),"NO BD") -> 336.32 | I31: =+F31*G31 -> 0 | J31: =+I31*10% -> 0 | K31: =+J31*19% -> 0 | L31: =SUM(I31:K31) -> 0
A32: 27 | B32: 88 | C32: Filtros de algodón | D32: Limpiones 1 (Compra) | E32: Suma de SEDE 1 - MANZANA LIEVANO - ALCALDÍA MAYOR | F32: =INDEX('PEDIDO JULIO'!A26:AF37,1,8) -> 0 | G32: =IFERROR(VLOOKUP($B32,'[1]INSUMO POR SEDES MARZO PRUEBA'!$B$6:$CD$109,8,0),"NO BD") -> 2717.886 | I32: =+F32*G32 -> 0 | J32: =+I32*10% -> 0 | K32: =+J32*19% -> 0 | L32: =SUM(I32:K32) -> 0
A33: 28 | B33: 92 | C33: Filtros de algodón | D33: Bayetilla 1 (Compra) | E33: Suma de SEDE 1 - MANZANA LIEVANO - ALCALDÍA MAYOR | F33: =INDEX('PEDIDO JULIO'!A27:AF37,1,8) -> 30 | G33: =IFERROR(VLOOKUP($B33,'[1]INSUMO POR SEDES MARZO PRUEBA'!$B$6:$CD$109,8,0),"NO BD") -> 2380.515 | I33: =+F33*G33 -> 71415.45 | J33: =+I33*10% -> 7141.545 | K33: =+J33*19% -> 1356.8936 | L33: =SUM(I33:K33) -> 79913.889
A34: 29 | B34: 94 | C34: Filtros de algodón | D34: Bayetilla 2 (Compra) | E34: Suma de SEDE 1 - MANZANA LIEVANO - ALCALDÍA MAYOR | F34: =INDEX('PEDIDO JULIO'!A28:AF37,1,8) -> 30 | G34: =IFERROR(VLOOKUP($B34,'[1]INSUMO POR SEDES MARZO PRUEBA'!$B$6:$CD$109,8,0),"NO BD") -> 3316.956 | I34: =+F34*G34 -> 99508.68 | J34: =+I34*10% -> 9950.868 | K34: =+J34*19% -> 1890.6649 | L34: =SUM(I34:K34) -> 111350.21
A35: 30 | B35: 98 | C35: Filtros de algodón | D35: Toalla en tela blanca para pisos por metro (repuesto de haraganes) (Compra) | E35: Suma de SEDE 1 - MANZANA LIEVANO - ALCALDÍA MAYOR | F35: =INDEX('PEDIDO JULIO'!A28:AF37,1,8) -> 30 | G35: =IFERROR(VLOOKUP($B35,'[1]INSUMO POR SEDES MARZO PRUEBA'!$B$6:$CD$109,8,0),"NO BD") -> 6633.912 | I35: =+F35*G35 -> 199017.36 | J35: =+I35*10% -> 19901.736 | K35: =+J35*19% -> 3781.3298 | L35: =SUM(I35:K35) -> 222700.43
A36: 31 | B36: 100 | C36: Paños absorbentes desechables para uso doméstico | D36: Paño absorbente multiusos 1 (Compra) | E36: Suma de SEDE 1 - MANZANA LIEVANO - ALCALDÍA MAYOR | F36: =INDEX('PEDIDO JULIO'!A29:AF37,1,8) -> 20 | G36: =IFERROR(VLOOKUP($B36,'[1]INSUMO POR SEDES MARZO PRUEBA'!$B$6:$CD$109,8,0),"NO BD") -> 4364.803 | I36: =+F36*G36 -> 87296.06 | J36: =+I36*10% -> 8729.606 | K36: =+J36*19% -> 1658.6251 | L36: =SUM(I36:K36) -> 97684.291
A37: 32 | B37: 102 | C37: Esponjas y esponjillas metálicas | D37: Esponjilla 1 (Compra) | E37: Suma de SEDE 1 - MANZANA LIEVANO - ALCALDÍA MAYOR | F37: =INDEX('PEDIDO JULIO'!A30:AF37,1,8) -> 0 | G37: =IFERROR(VLOOKUP($B37,'[1]INSUMO POR SEDES MARZO PRUEBA'!$B$6:$CD$109,8,0),"NO BD") -> 3811.977 | I37: =+F37*G37 -> 0 | J37: =+I37*10% -> 0 | K37: =+J37*19% -> 0 | L37: =SUM(I37:K37) -> 0
A38: 33 | B38: 110 | C38: Esponjas y esponjillas metálicas | D38: Esponjilla 2 (Compra) | E38: Suma de SEDE 1 - MANZANA LIEVANO - ALCALDÍA MAYOR | F38: =INDEX('PEDIDO JULIO'!A31:AF37,1,8) -> 0 | G38: =IFERROR(VLOOKUP($B38,'[1]INSUMO POR SEDES MARZO PRUEBA'!$B$6:$CD$109,8,0),"NO BD") -> 470.848 | I38: =+F38*G38 -> 0 | J38: =+I38*10% -> 0 | K38: =+J38*19% -> 0 | L38: =SUM(I38:K38) -> 0
A39: 34 | B39: 118 | C39: Esponjas y esponjillas metálicas | D39: Esponjilla 3 (Compra) | E39: Suma de SEDE 1 - MANZANA LIEVANO - ALCALDÍA MAYOR | F39: =INDEX('PEDIDO JULIO'!A32:AF37,1,8) -> 0 | G39: =IFERROR(VLOOKUP($B39,'[1]INSUMO POR SEDES MARZO PRUEBA'!$B$6:$CD$109,8,0),"NO BD") -> 2455.136 | I39: =+F39*G39 -> 0 | J39: =+I39*10% -> 0 | K39: =+J39*19% -> 0 | L39: =SUM(I39:K39) -> 0
A40: 35 | B40: 119 | C40: Esponjas y esponjillas metálicas | D40: Esponjilla 4 (Compra) | E40: Suma de SEDE 1 - MANZANA LIEVANO - ALCALDÍA MAYOR | F40: =INDEX('PEDIDO JULIO'!A33:AF37,1,8) -> 15 | G40: =IFERROR(VLOOKUP($B40,'[1]INSUMO POR SEDES MARZO PRUEBA'!$B$6:$CD$109,8,0),"NO BD") -> 2821.935 | I40: =+F40*G40 -> 42329.025 | J40: =+I40*10% -> 4232.9025 | K40: =+J40*19% -> 804.25148 | L40: =SUM(I40:K40) -> 47366.179
A41: 36 | B41: 120 | C41: Esponjas y esponjillas metálicas | D41: Esponjilla 5 (Compra) | E41: Suma de SEDE 1 - MANZANA LIEVANO - ALCALDÍA MAYOR | F41: =INDEX('PEDIDO JULIO'!A33:AF38,1,8) -> 15 | G41: =IFERROR(VLOOKUP($B41,'[1]INSUMO POR SEDES MARZO PRUEBA'!$B$6:$CD$109,8,0),"NO BD") -> 2821.935 | I41: =+F41*G41 -> 42329.025 | J41: =+I41*10% -> 4232.9025 | K41: =+J41*19% -> 804.25148 | L41: =SUM(I41:K41) -> 47366.179
A42: 37 | B42: 122 | C42: Escobas | D42: Escoba 1 (Compra) | E42: Suma de SEDE 1 - MANZANA LIEVANO - ALCALDÍA MAYOR | F42: =INDEX('PEDIDO JULIO'!A33:AF38,1,8) -> 15 | G42: =IFERROR(VLOOKUP($B42,'[1]INSUMO POR SEDES MARZO PRUEBA'!$B$6:$CD$109,8,0),"NO BD") -> 5223.47 | I42: =+F42*G42 -> 78352.05 | J42: =+I42*10% -> 7835.205 | K42: =+J42*19% -> 1488.6889 | L42: =SUM(I42:K42) -> 87675.944
...

Sheet RUBROS JULIO
A1: CODIGO SEDE | C1: O2120201002032352001 | D1: O2120201002032381302 | E1: O2120201002032391101 | F1: O2120201002032399921 | G1: O2120201002042441001 | H1: O2120201002072719007 | I1: O2120201002072719009 | J1: O2120201002072792104 | K1: O2120201002082823803 | L1: O2120201003013191409 | M1: O2120201003023213101 | N1: O2120201003023213102 | O1: O2120201003023219303 | P1: O2120201003023219304 | Q1: O2120201003023219907 | R1: O2120201003033335001 | S1: O2120201003033335004 | T1: O2120201003043113 | U1: O2120201003043424014 | V1: O2120201003043466401 | W1: O2120201003053532101 | X1: O2120201003053532103 | Y1: O2120201003053532104 | Z1: O2120201003053532105 | AA1: O2120201003053532201 | AB1: O2120201003053532 | AC1: O2120201003053532204 | AD1: O2120201003053533102 | AE1: O2120201003053533202 | AF1: O2120201003053549945 | AG1: O2120201003063641001 | AH1: O2120201003063694012 | AI1: O2120201003063694016 | AJ1: O2120201003073719199 | AK1: O2120201003073719305 | AL1: O2120201003073722101 | AM1: O2120201003083899302 | AN1: O2120201003083899303 | AO1: O2120201004024291231 | AP1: O2120201004024299 | AQ1: O21202020070373122 | AR1: O21202020070373230 | AS1: O21202020080585330
A2: VALOR DISPONIBLE | C2: 38031768 | D2: 25469903 | E2: 5915797 | F2: 701 | G2: 3679729.5 | H2: 0 | I2: 1.06409 | J2: 22101904 | K2: 4375622 | L2: 1 | M2: 1 | N2: 275331 | O2: 1199896 | P2: 45237742 | Q2: 38392508 | R2: 0.61786 | S2: 4889194.5 | T2: 0 | U2: 9148104.3 | V2: 0.3140112 | W2: 3267835.3 | X2: 1954504.6 | Y2: 6717244 | Z2: 4966591.8 | AA2: 3365335.1 | AB2: 0 | AC2: 1594031.2 | AD2: 24520554 | AE2: 12293827 | AF2: 62542922 | AG2: 3478.1517 | AH2: 334783 | AI2: 1 | AJ2: 76976.688 | AK2: 377736 | AL2: 5239202 | AM2: 4594224.7 | AN2: 3009237.1 | AO2: 678466.23 | AP2: 0 | AQ2: 177870719 | AR2: 1.3992273e+08 | AS2: 1.9408993e+09
A3: TOTAL DESPUES DE PAGO | C3: =C2-C31 -> 38031768 | D3: =D2-D31 -> 25469903 | E3: =E2-E31 -> 781471.26 | F3: =F2-F31 -> 701 | G3: =G2-G31 -> 2340378.6 | H3: =H2-H31 -> 0 | I3: =I2-I31 -> 1.06409 | J3: =J2-J31 -> 15281837 | ... AS3: =AS2-AS31 -> 1.2025488e+09
A4: RUBRO | C4: Azucar refinada (174- 176) | D4: Café molido (170,173) | E4: Té elaborado | F4: Productos aromáticos diversos (192, 195) | G4: Agua purificada (envasada) (204,205) | H4: Filtros de material textil, para usos técnicos e industriales (103, 104, 105, 106, 108, 109, 162) | I4: Paños absorbentes desechables para uso doméstico (74,213) | J4: Filtros de algodón (66, 71, 72, 73, 98,161, 208, 209, 210, 211) | K4: Guantes de fibras artificiales y sintéticas | L4: Aplicadores, bajalenguas y otros para usos higiénicos, de madera (135, 159) | M4: Papel del tipo utilizado para papel higiénico (137, 139) | N4: Papel para servilletas, toallas y similares (160) | O4: Pañuelos de papel (154) | P4: Toallas de papel (151, 152) | Q4: Vasos de papel o cartón (155, 156, 157) | R4: Solventes para insecticida (64, 65) | S4: Varsol-disolvente núm. 4 (57; 251) | T4: Alcoholes n.c.p. | U4: Hipoclorito de sodio (32) | V4: Desinfectantes (28, 38) | W4: Jabones en pasta para lavar (5, 8) | X4: Jabones líquidos para lavar (3, 41) | Y4: Jabones industriales (11) | Z4: Jabones de tocador (13) | AA4: Detergentes en polvo (9) | AB4: Preparaciones para limpieza y desengrase (21, 44, 59) | AC4: Preparaciones para limpiar vidrios (29) | AD4: Purificadores líquidos de ambiente (62, 63) | AE4: Ceras para pisos (46) | AF4: Productos químicos especiales para tratamiento de pisos (17, 20, 50, 51, 52, 54) | AG4: Bolsas de material plástico sin impresión (110, 118, 119, 120, 122, 123,124, 126, 127, 129, 131, 132, 134) | AH4: Recipientes de material plástico-canecas para la basura (260, 291) | AI4: Recogedores plásticos de basura (215, 216, 218) | AJ4: Envases n.c.p. de vidrio (169) | AK4: Vasos y jarros de vidrio | AL4: Vajillas de loza-pedernal | AM4: Escobas (86, 87, 88, 89) | AN4: Cepillos para lavar o fregar (94, 95, 102, 164,207,212, 255, 257) | AO4: Esponjas y esponjillas metálicas (79, 80, 81, 82, 83) | AP4: Mangos metálicos (91, 92, 100) | AQ4: Servicios de arrendamiento o de alquiler de maquinaria y equipo de construcción sin operario | AR4: Servicios de arrendamiento sin opción de compra de muebles y otros aparatos domésticos | AS4: Servicios de limpieza general
C5: Azucar refinada | D5: Café molido | F5: Productos aromáticos diversos | G5: Agua purificada (envasada) | H5: Filtros de material textil, para usos técnicos e industriales | I5: Paños absorbentes desechables para uso doméstico | J5: Filtros de algodón | L5: Aplicadores, bajalenguas y otros para usos higiénicos, de madera | M5: Papel del tipo utilizado para papel higiénico | N5: Papel para servilletas, toallas y similares | O5: Pañuelos de papel | P5: Toallas de papel | Q5: Vasos de papel o cartón | R5: Solventes para insecticida | S5: Varsol-disolvente núm. 4 | U5: Hipoclorito de sodio | V5: Desinfectantes | W5: Jabones en pasta para lavar | X5: Jabones líquidos para lavar | Y5: Jabones industriales | Z5: Jabones de tocador | AA5: Detergentes en polvo | AB5: Preparaciones para limpieza y desengrase | AC5: Preparaciones para limpiar vidrios | AD5: Purificadores líquidos de ambiente | AE5: Ceras para pisos | AF5: Productos químicos especiales para tratamiento de pisos | AG5: Bolsas de material plástico sin impresión | AH5: Recipientes de material plástico-canecas para la basura | AI5: Recogedores plásticos de basura | AJ5: Envases n.c.p. de vidrio | AM5: Escobas | AN5: Cepillos para lavar o fregar | AO5: Esponjas y esponjillas metálicas | AP5: Mangos metálicos
A6: SEDE 1 - MANZANA LIEVANO - ALCALDÍA MAYOR | B6: 4233100 | C6: 0 | D6: 0 | E6: 1536675.3 | F6: 0 | G6: 0 | H6: 0 | I6: 0 | J6: 3279253.2 | K6: 0 | L6: 0 | M6: 0 | N6: 0 | O6: 0 | P6: 29229452 | Q6: 10857469 | R6: 0 | S6: 0 | T6: 0 | U6: 276329.17 | V6: 0 | W6: 0 | X6: 1489203.3 | Y6: 0 | Z6: 145644.38 | AA6: 0 | AB6: 0 | AC6: 0 | AD6: 738256.15 | AE6: 0 | AF6: 3213149.9 | AG6: 0 | AH6: 0 | AI6: 0 | AJ6: 0 | AK6: 0 | AL6: 0 | AM6: 0 | AN6: 0 | AO6: 3545.848 | AP6: 0 | AR6: 4833435.3 | AS6: 2.069097e+08
A7: SEDE 2 - DIRECCIÓN DISTRITAL DE ARCHIVO DE BOGOTA | B7: 4213000 | C7: 0 | D7: 0 | E7: 0 | F7: 0 | G7: 0 | H7: 0 | I7: 0 | J7: 130299.15 | K7: 0 | L7: 0 | M7: 0 | N7: 0 | O7: 0 | P7: 438230.36 | Q7: 0 | R7: 0 | S7: 0 | T7: 0 | U7: 0 | V7: 0 | W7: 0 | X7: 0 | Y7: 0 | Z7: 0 | AA7: 0 | AB7: 0 | AC7: 0 | AD7: 0 | AE7: 0 | AF7: 0 | AG7: 0 | AH7: 0 | AI7: 0 | AJ7: 0 | AK7: 0 | AL7: 0 | AM7: 0 | AN7: 0 | AO7: 0 | AP7: 0 | AR7: 1108789.6 | AS7: 60305339
A8: SEDE 3 - IMPRENTA DISTRITAL | B8: 4211200 | C8: 0 | D8: 0 | E8: 0 | F8: 0 | G8: 0 | H8: 0 | I8: 0 | J8: 83290.383 | K8: 0 | L8: 0 | M8: 0 | N8: 0 | O8: 0 | P8: 352044.02 | Q8: 0 | R8: 0 | S8: 0 | T8: 0 | U8: 0 | V8: 0 | W8: 0 | X8: 0 | Y8: 0 | Z8: 0 | AA8: 0 | AB8: 0 | AC8: 0 | AD8: 0 | AE8: 0 | AF8: 0 | AG8: 0 | AH8: 0 | AI8: 0 | AJ8: 0 | AK8: 0 | AL8: 0 | AM8: 0 | AN8: 0 | AO8: 0 | AP8: 0 | AR8: 672616.21 | AS8: 15596208
A9: SEDE 4 - SEDE ALTERNA RESTREPO | C9: 0 | D9: 0 | E9: 0 | F9: 0 | G9: 0 | H9: 0 | I9: 0 | J9: 0 | K9: 0 | L9: 0 | M9: 0 | N9: 0 | O9: 0 | P9: 0 | Q9: 0 | R9: 0 | S9: 0 | T9: 0 | U9: 0 | V9: 0 | W9: 0 | X9: 0 | Y9: 0 | Z9: 0 | AA9: 0 | AB9: 0 | AC9: 0 | AD9: 0 | AE9: 0 | AF9: 0 | AG9: 0 | AH9: 0 | AI9: 0 | AJ9: 0 | AK9: 0 | AL9: 0 | AM9: 0 | AN9: 0 | AO9: 0 | AP9: 0 | AR9: 0 | AS9: 7798104.2
A10: SEDE 5 - SUPERCADE CAD CARRERA | B10: 4222119 | C10: 0 | D10: 0 | E10: 268918.17 | F10: 0 | G10: 0 | H10: 0 | I10: 0 | J10: 1018637.3 | K10: 0 | L10: 0 | M10: 0 | N10: 0 | O10: 0 | P10: 391088.81 | Q10: 61861.229 | R10: 0 | S10: 0 | T10: 0 | U10: 0 | V10: 0 | W10: 0 | X10: 40353.868 | Y10: 0 | Z10: 50975.535 | AA10: 0 | AB10: 0 | AC10: 0 | AD10: 97933.147 | AE10: 0 | AF10: 22047.766 | AG10: 0 | AH10: 0 | AI10: 0 | AJ10: 0 | AK10: 0 | AL10: 0 | AM10: 0 | AN10: 0 | AO10: 0 | AP10: 0 | AR10: 914630.04 | AS10: 46398720
A11: SEDE 6 - SUPERCADE AMERICAS | B11: 4222120 | C11: 0 | D11: 0 | E11: 0 | F11: 0 | G11: 0 | H11: 0 | I11: 0 | J11: 755136.85 | K11: 0 | L11: 0 | M11: 0 | N11: 0 | O11: 0 | P11: 1297618.1 | Q11: 0 | R11: 0 | S11: 0 | T11: 0 | U11: 0 | V11: 0 | W11: 0 | X11: 32283.094 | Y11: 0 | Z11: 14564.438 | AA11: 0 | AB11: 0 | AC11: 0 | AD11: 120537.66 | AE11: 0 | AF11: 12638.037 | AG11: 0 | AH11: 0 | AI11: 0 | AJ11: 0 | AK11: 0 | AL11: 0 | AM11: 0 | AN11: 0 | AO11: 0 | AP11: 0 | AR11: 569178.59 | AS11: 38860553
A12: SEDE 7 - SUPERCADE BOSA | B12: 4222122 | C12: 0 | D12: 0 | E12: 0 | F12: 0 | G12: 0 | H12: 0 | I12: 0 | J12: 694713.13 | K12: 0 | L12: 0 | M12: 0 | N12: 0 | O12: 0 | P12: 1857259.9 | Q12: 0 | R12: 0 | S12: 28698.436 | T12: 0 | U12: 0 | V12: 0 | W12: 0 | X12: 32283.094 | Y12: 0 | Z12: 0 | AA12: 0 | AB12: 0 | AC12: 0 | AD12: 99436.164 | AE12: 0 | AF12: 150996.67 | AG12: 0 | AH12: 0 | AI12: 0 | AJ12: 0 | AK12: 0 | AL12: 0 | AM12: 0 | AN12: 0 | AO12: 0 | AP12: 0 | AR12: 569178.59 | AS12: 34441627
A13: SEDE 8 - SUPERCADE CALLE 13 | B13: 4222125 | C13: 0 | D13: 0 | E13: 0 | F13: 0 | G13: 0 | H13: 0 | I13: 0 | J13: 119701.48 | K13: 0 | L13: 0 | M13: 0 | N13: 0 | O13: 0 | P13: 209908.79 | Q13: 0 | R13: 0 | S13: 0 | T13: 0 | U13: 9210.9724 | V13: 0 | W13: 0 | X13: 0 | Y13: 0 | Z13: 0 | AA13: 0 | AB13: 0 | AC13: 0 | AD13: 67813.55 | AE13: 0 | AF13: 18957.056 | AG13: 0 | AH13: 0 | AI13: 0 | AJ13: 0 | AK13: 0 | AL13: 0 | AM13: 0 | AN13: 0 | AO13: 0 | AP13: 0 | AR13: 569178.59 | AS13: 9487693.4
A14: SEDE 9 - SUPERCADE 20 DE JULIO | B14: 4222124 | C14: 0 | D14: 0 | E14: 384168.82 | F14: 0 | G14: 0 | H14: 0 | I14: 0 | J14: 608199.38 | K14: 0 | L14: 0 | M14: 0 | N14: 0 | O14: 0 | P14: 712014.05 | Q14: 0 | R14: 0 | S14: 0 | T14: 0 | U14: 13816.459 | V14: 0 | W14: 0 | X14: 2634.3946 | Y14: 0 | Z14: 0 | AA14: 0 | AB14: 0 | AC14: 0 | AD14: 83624.857 | AE14: 0 | AF14: 234742.2 | AG14: 0 | AH14: 0 | AI14: 0 | AJ14: 0 | AK14: 0 | AL14: 0 | AM14: 0 | AN14: 0 | AO14: 2363.8987 | AP14: 0 | AR14: 569178.59 | AS14: 31192417
A15: SEDE 10 - SUPERCADE MANITAS | B15: 4222138 | C15: 0 | D15: 0 | E15: 0 | F15: 0 | G15: 0 | H15: 0 | I15: 0 | J15: 0 | K15: 0 | L15: 0 | M15: 0 | N15: 0 | O15: 0 | P15: 0 | Q15: 154653.07 | R15: 0 | S15: 0 | T15: 0 | U15: 0 | V15: 0 | W15: 0 | X15: 0 | Y15: 0 | Z15: 114494.08 | AA15: 0 | AB15: 0 | AC15: 0 | AD15: 120537.66 | AE15: 0 | AF15: 139700.53 | AG15: 0 | AH15: 0 | AI15: 0 | AJ15: 0 | AK15: 0 | AL15: 0 | AM15: 0 | AN15: 0 | AO15: 0 | AP15: 0 | AR15: 702230.8 | AS15: 50297772
A16: SEDE 11 - SUPERCADE SUBA | B16: 4222121 | C16: 0 | D16: 0 | E16: 0 | F16: 0 | G16: 0 | H16: 0 | I16: 0 | J16: 0 | K16: 0 | L16: 0 | M16: 0 | N16: 0 | O16: 0 | P16: 287287.78 | Q16: 0 | R16: 0 | S16: 0 | T16: 0 | U16: 0 | V16: 0 | W16: 0 | X16: 0 | Y16: 0 | Z16: 0 | AA16: 0 | AB16: 0 | AC16: 0 | AD16: 0 | AE16: 0 | AF16: 0 | AG16: 0 | AH16: 0 | AI16: 0 | AJ16: 0 | AK16: 0 | AL16: 0 | AM16: 0 | AN16: 0 | AO16: 0 | AP16: 0 | AR16: 569178.59 | AS16: 53676951
A17: SEDE 12 - SUPERCADE SOCIAL | B17: 4222135 | C17: 0 | D17: 0 | E17: 0 | F17: 0 | G17: 0 | H17: 0 | I17: 0 | J17: 0 | K17: 0 | L17: 0 | M17: 0 | N17: 0 | O17: 0 | P17: 172372.67 | Q17: 0 | R17: 0 | S17: 0 | T17: 0 | U17: 0 | V17: 0 | W17: 0 | X17: 0 | Y17: 0 | Z17: 0 | AA17: 0 | AB17: 0 | AC17: 0 | AD17: 0 | AE17: 0 | AF17: 0 | AG17: 0 | AH17: 0 | AI17: 0 | AJ17: 0 | AK17: 0 | AL17: 0 | AM17: 0 | AN17: 0 | AO17: 0 | AP17: 0 | AR17: 387508.86 | AS17: 7798104.2
A18: SEDE 13 - CADE SERVITA | B18: 4222102 | C18: 0 | D18: 0 | E18: 76833.764 | F18: 0 | G18: 0 | H18: 0 | I18: 0 | J18: 0 | K18: 0 | L18: 0 | M18: 0 | N18: 0 | O18: 0 | P18: 282520 | Q18: 0 | R18: 0 | S18: 0 | T18: 0 | U18: 0 | V18: 0 | W18: 7423.3475 | X18: 15806.367 | Y18: 0 | Z18: 21846.658 | AA18: 11071.514 | AB18: 0 | AC18: 0 | AD18: 128052.74 | AE18: 0 | AF18: 0 | AG18: 0 | AH18: 0 | AI18: 0 | AJ18: 0 | AK18: 0 | AL18: 0 | AM18: 0 | AN18: 0 | AO18: 0 | AP18: 0 | AR18: 267518.06 | AS18: 7148262.2
A19: SEDE 14 - CADE LA VICTORIA | B19: 4222104 | C19: 0 | D19: 0 | E19: 46100.258 | F19: 0 | G19: 0 | H19: 0 | I19: 0 | J19: 119701.48 | K19: 0 | L19: 0 | M19: 0 | N19: 0 | O19: 0 | P19: 257468.55 | Q19: 61861.229 | R19: 0 | S19: 0 | T19: 0 | U19: 170736.99 | V19: 0 | W19: 0 | X19: 2107.5156 | Y19: 0 | Z19: 0 | AA19: 7381.009 | AB19: 0 | AC19: 0 | AD19: 50442.07 | AE19: 0 | AF19: 0 | AG19: 0 | AH19: 0 | AI19: 0 | AJ19: 0 | AK19: 0 | AL19: 0 | AM19: 0 | AN19: 0 | AO19: 3604.6515 | AP19: 0 | AR19: 255282.24 | AS19: 11567188
A20: SEDE 15 - CADE LA GAITANA | B20: 4222113 | C20: 0 | D20: 0 | E20: 0 | F20: 0 | G20: 0 | H20: 0 | I20: 0 | J20: 0 | K20: 0 | L20: 0 | M20: 0 | N20: 0 | O20: 0 | P20: 172372.67 | Q20: 0 | R20: 0 | S20: 0 | T20: 0 | U20: 0 | V20: 0 | W20: 0 | X20: 0 | Y20: 0 | Z20: 0 | AA20: 0 | AB20: 0 | AC20: 0 | AD20: 0 | AE20: 0 | AF20: 0 | AG20: 0 | AH20: 0 | AI20: 0 | AJ20: 0 | AK20: 0 | AL20: 0 | AM20: 0 | AN20: 0 | AO20: 0 | AP20: 0 | AR20: 205656.83 | AS20: 11697156
A21: SEDE 16 - SUPERCADE ENGATIVA | B21: 4222126 | C21: 0 | D21: 0 | E21: 0 | F21: 0 | G21: 287287.78 | H21: 0 | I21: 0 | J21: 0 | K21: 0 | L21: 0 | M21: 0 | N21: 0 | O21: 0 | P21: 0 | Q21: 0 | R21: 0 | S21: 0 | T21: 0 | U21: 0 | V21: 0 | W21: 0 | X21: 0 | Y21: 0 | Z21: 0 | AA21: 0 | AB21: 0 | AC21: 0 | AD21: 0 | AE21: 0 | AF21: 0 | AG21: 0 | AH21: 0 | AI21: 0 | AJ21: 0 | AK21: 0 | AL21: 0 | AM21: 0 | AN21: 0 | AO21: 0 | AP21: 0 | AR21: 552309.05 | AS21: 21704723
... A24: SEDE 19 - CENTRO DE ENCUENTRO BOSA | B24: 4123002 | C24: 0 | D24: 0 | E24: 287854.65 | F24: 0 | G24: 165167.13 | H24: 0 | I24: 0 | J24: 0 | K24: 0 | L24: 0 | M24: 0 | N24: 0 | O24: 0 | P24: 129908.58 | Q24: 0 | R24: 0 | S24: 0 | T24: 0 | U24: 0 | V24: 0 | W24: 0 | X24: 0 | Y24: 0 | Z24: 0 | AA24: 0 | AB24: 0 | AC24: 0 | AD24: 128052.74 | AE24: 448110.51 | AF24: 29983.879 | AG24: 0 | AH24: 0 | AI24: 0 | AJ24: 0 | AK24: 0 | AL24: 0 | AM24: 0 | AN24: 0 | AO24: 0 | AP24: 0 | AR24: 320757.53 | AS24: 18715450
A25: SEDE 20 - CENTRO DE ENCUENTRO CHAPINERO | B25: 4123005 | C25: 0 | D25: 0 | E25: 0 | F25: 0 | G25: 0 | H25: 0 | I25: 0 | J25: 0 | K25: 0 | L25: 0 | M25: 0 | N25: 0 | O25: 0 | P25: 0 | Q25: 0 | R25: 0 | S25: 0 | T25: 0 | U25: 0 | V25: 0 | W25: 0 | X25: 0 | Y25: 0 | Z25: 0 | AA25: 0 | AB25: 0 | AC25: 0 | AD25: 0 | AE25: 0 | AF25: 0 | AG25: 0 | AH25: 0 | AI25: 0 | AJ25: 0 | AK25: 0 | AL25: 0 | AM25: 0 | AN25: 0 | AO25: 0 | AP25: 0
A26: SEDE 21 - CENTRO DE ENCUENTRO CIUDAD BOLIVAR | B26: 4123001 | C26: 0 | D26: 0 | E26: 231897.29 | F26: 0 | G26: 82583.565 | H26: 0 | I26: 0 | J26: 0 | K26: 0 | L26: 0 | M26: 0 | N26: 0 | O26: 0 | P26: 148466.95 | Q26: 0 | R26: 0 | S26: 0 | T26: 0 | U26: 0 | V26: 0 | W26: 0 | X26: 0 | Y26: 0 | Z26: 0 | AA26: 0 | AB26: 0 | AC26: 0 | AD26: 128052.74 | AE26: 0 | AF26: 0 | AG26: 0 | AH26: 0 | AI26: 0 | AJ26: 0 | AK26: 0 | AL26: 0 | AM26: 0 | AN26: 0 | AO26: 0 | AP26: 0 | AR26: 320757.53 | AS26: 11697156
A27: SEDE 22 - CENTRO DE ENCUENTRO KENNEDY PATIO BONITO | B27: 4123004 | C27: 0 | D27: 0 | E27: 377840.39 | F27: 0 | G27: 198200.56 | H27: 0 | I27: 0 | J27: 0 | K27: 0 | L27: 0 | M27: 0 | N27: 0 | O27: 0 | P27: 176304.5 | Q27: 589375.22 | R27: 0 | S27: 0 | T27: 0 | U27: 0 | V27: 0 | W27: 0 | X27: 7903.1837 | Y27: 0 | Z27: 0 | AA27: 0 | AB27: 0 | AC27: 0 | AD27: 115922.77 | AE27: 0 | AF27: 0 | AG27: 0 | AH27: 0 | AI27: 0 | AJ27: 0 | AK27: 0 | AL27: 0 | AM27: 0 | AN27: 0 | AO27: 0 | AP27: 0 | AR27: 320757.53 | AS27: 11697156
A28: SEDE 23 - CENTRO DE ENCUENTRO RAFAEL URIBE | B28: 4123010 | C28: 0 | D28: 0 | E28: 215890.99 | F28: 0 | G28: 82583.565 | H28: 0 | I28: 0 | J28: 0 | K28: 0 | L28: 0 | M28: 0 | N28: 0 | O28: 0 | P28: 148466.95 | Q28: 0 | R28: 0 | S28: 0 | T28: 0 | U28: 0 | V28: 0 | W28: 0 | X28: 0 | Y28: 0 | Z28: 0 | AA28: 0 | AB28: 0 | AC28: 0 | AD28: 91604.955 | AE28: 0 | AF28: 0 | AG28: 0 | AH28: 0 | AI28: 0 | AJ28: 0 | AK28: 0 | AL28: 0 | AM28: 0 | AN28: 0 | AO28: 2422.7021 | AP28: 0 | AR28: 320757.53 | AS28: 20405039
A29: SEDE 24 - CENTRO DE ENCUENTRO SUBA | B29: 4123007 | C29: 0 | D29: 0 | E29: 0 | F29: 0 | G29: 99100.278 | H29: 0 | I29: 0 | J29: 0 | K29: 0 | L29: 0 | M29: 0 | N29: 0 | O29: 0 | P29: 0 | Q29: 0 | R29: 0 | S29: 0 | T29: 0 | U29: 0 | V29: 0 | W29: 0 | X29: 0 | Y29: 0 | Z29: 0 | AA29: 0 | AB29: 0 | AC29: 0 | AD29: 0 | AE29: 0 | AF29: 0 | AG29: 0 | AH29: 0 | AI29: 0 | AJ29: 0 | AK29: 0 | AL29: 0 | AM29: 0 | AN29: 0 | AO29: 0 | AP29: 0 | AR29: 320757.53 | AS29: 7538167.4
A30: SEDE 25 - CENTRO DE ENCUENTRO - CADE YOMASA | B30: 4222118 | C30: 0 | D30: 0 | E30: 463794.57 | F30: 0 | G30: 82583.565 | H30: 0 | I30: 0 | J30: 0 | K30: 0 | L30: 0 | M30: 0 | N30: 0 | O30: 0 | P30: 118773.56 | Q30: 0 | R30: 0 | S30: 0 | T30: 0 | U30: 0 | V30: 0 | W30: 0 | X30: 0 | Y30: 0 | Z30: 0 | AA30: 0 | AB30: 0 | AC30: 0 | AD30: 57961.385 | AE30: 0 | AF30: 0 | AG30: 0 | AH30: 0 | AI30: 0 | AJ30: 0 | AK30: 0 | AL30: 0 | AM30: 18247.887 | AN30: 0 | AO30: 0 | AP30: 0 | AR30: 382618.76 | AS30: 18585482
C31: =SUM(C6:C30) -> 0 | D31: =SUM(D6:D30) -> 0 | E31: =SUM(E6:E30) -> 5134325.7 | F31: =SUM(F6:F30) -> 0 | G31: =SUM(G6:G30) -> 1339350.9 | H31: =SUM(H6:H30) -> 0 | I31: =SUM(I6:I30) -> 0 | J31: =SUM(J6:J30) -> 6820067.4 | ... AS31: =SUM(AS6:AS30) -> 7.383505e+08
AS32: =SUM(C31:AS31) -> 8.2463951e+08
AQ34: TOTAL | AR34: =SUM(C31:AP31) -> 70714601
AQ35: INSUMOS DISCRIMINADOS | AR35: =+'CONSOLIDADO POR SEDE JUNIO'!K2606 -> 70714601
AR36: =+AR34-AR35 -> 0

Sheet NOMINA JULIO
B2: JULIO
B4: CONTROL Y ASISTENCIA DE PERSONAL
J6: 1 | K6: 2 | L6: 3 | M6: 4 | N6: 5 | O6: 6 | P6: 7 | Q6: 8 | R6: 9 | S6: 10 | T6: 11 | U6: 12 | V6: 13 | W6: 14 | X6: 15 | Y6: 16 | Z6: 17 | AA6: 18 | AB6: 19 | AC6: 20 | AD6: 21 | AE6: 22 | AF6: 23 | AG6: 24 | AH6: 25 | AI6: 26 | AJ6: 27 | AK6: 28 | AL6: 29 | AM6: 30
B7: ITEMS | C7: DOCUMENTO | D7: NOMBRE Y APELLIDO | E7: SUPERVISORA | F7: CARGO | G7: SEDE | H7: TELEFONO | I7: FECHA INGRESO | J7: mié | K7: jue | L7: vie | M7: sáb | N7: dom | O7: lun | P7: mar | Q7: mié | R7: jue | S7: vie | T7: sáb | U7: dom | V7: lun | W7: mar | X7: mié | Y7: jue | Z7: vie | AA7: sáb | AB7: dom | AC7: lun | AD7: mar | AE7: mié | AF7: jue | AG7: vie | AH7: sáb | AI7: dom | AJ7: lun | AK7: mar | AL7: dom | AM7: lun | AO7: AUS | AP7: PNR | AQ7: D | AR7: INC | AS7: S | AT7: LNR | AU7: VAC | AV7: CD | AW7: REN | AX7: TC | AY7: LT | AZ7: TS | BA7: OK | BB7: TOTAL LABORADO
J8: 46204 | K8: 46205 | L8: 46206 | M8: 46207 | N8: 46208 | O8: 46209 | P8: 46210 | Q8: 46211 | R8: 46212 | S8: 46213 | T8: 46214 | U8: 46215 | V8: 46216 | W8: 46217 | X8: 46218 | Y8: 46219 | Z8: 46220 | AA8: 46221 | AB8: 46222 | AC8: 46223 | AD8: 46224 | AE8: 46225 | AF8: 46226 | AG8: 46227 | AH8: 46228 | AI8: 46229 | AJ8: 46230 | AK8: 46231 | AL8: 29 | AM8: 30 | AO8: AUSENCIAS | AP8: PERMISO NO REMUNERADO | AQ8: DESCANSO | AR8: INCAPACIDAD | AS8: SUSPENSION | AT8: LICENCIA NO REMUNERADA | AU8: VACACIONES | AV8: CALAMIDAS DOMESTICA | AW8: RENUNCIA | AX8: TERMINACION CONTRATO | AY8: LICENCIA DE LUTO | AZ8: TRASLADO | BA8: LABORÓ
B9: 1 | C9: 1111335552 | D9: RAMIREZ NINO ANDREA | E9: LILIANA - JOHANNA | F9: Operario de aseo y cafetería | G9: SEDE 1 - MANZANA LIEVANO - ALCALDÍA MAYOR | H9: 3114415852 | I9: 21/10/2025 | J9: OK | K9: OK | L9: OK | M9: OK | N9: D | O9: OK | P9: OK | Q9: OK | R9: OK | S9: OK | T9: OK | U9: D | V9: D | W9: OK | X9: OK | Y9: OK | Z9: OK | AA9: OK | AB9: D | AC9: D | AD9: OK | AE9: OK | AF9: OK | AG9: OK | AH9: OK | AI9: OK | AJ9: D | AK9: OK | AL9: OK | AM9: OK | AO9: =COUNTIF($J9:$AM9,AO$7) -> 0 | AP9: =COUNTIF($J9:$AM9,AP$7) -> 0 | AQ9: =COUNTIF($J9:$AM9,AQ$7) -> 6 | AR9: =COUNTIF($J9:$AM9,AR$7) -> 0 | AS9: =COUNTIF($J9:$AM9,AS$7) -> 0 | AT9: =COUNTIF($J9:$AM9,AT$7) -> 0 | AU9: =COUNTIF($J9:$AM9,AU$7) -> 0 | AV9: =COUNTIF($J9:$AM9,AV$7) -> 0 | ... BA9: =COUNTIF($J9:$AM9,BA$7) -> 24 | BB9: =+BA9+AQ9 -> 30 | BD9: 30
B10: 2 | C10: 1073599974 | D10: GARZON LUGO EDWARD MIGUEL | E10: LILIANA - JOHANNA | F10: Operario de mantenimiento | G10: SEDE 1 - MANZANA LIEVANO - ALCALDÍA MAYOR | H10: 3219008529 | I10: 18/10/2025 | J10: OK | K10: OK | L10: OK | M10: OK | N10: D | O10: OK | P10: OK | Q10: OK | R10: OK | S10: OK | T10: OK | U10: D | V10: D | W10: OK | X10: OK | Y10: OK | Z10: OK | AA10: OK | AB10: D | AC10: D | AD10: OK | AE10: OK | AF10: OK | AG10: OK | AH10: OK | AI10: OK | AJ10: D | AK10: OK | AL10: OK | AM10: OK | AO10: =COUNTIF($J10:$AM10,AO$7) -> 0 | AP10: =COUNTIF($J10:$AM10,AP$7) -> 0 | AQ10: =COUNTIF($J10:$AM10,AQ$7) -> 6 | AR10: =COUNTIF($J10:$AM10,AR$7) -> 0 | AS10: =COUNTIF($J10:$AM10,AS$7) -> 0 | AT10: =COUNTIF($J10:$AM10,AT$7) -> 0 | AU10: =COUNTIF($J10:$AM10,AU$7) -> 0 | AV10: =COUNTIF($J10:$AM10,AV$7) -> 0 | ... BA10: =COUNTIF($J10:$AM10,BA$7) -> 24 | BB10: =+BA10+AQ10 -> 30 | BD10: 30
B11: 3 | C11: 52381579 | D11: ALTURO FLORIAN JACQUELINE | E11: LILIANA - JOHANNA | F11: Operario de aseo y cafetería | G11: SEDE 1 - MANZANA LIEVANO - ALCALDÍA MAYOR | H11: 3114788014 | I11: 18/10/2025 | J11: OK | K11: OK | L11: OK | M11: OK | N11: D | O11: OK | P11: OK | Q11: OK | R11: OK | S11: OK | T11: OK | U11: D | V11: D | W11: OK | X11: OK | Y11: OK | Z11: OK | AA11: OK | AB11: D | AC11: D | AD11: OK | AE11: OK | AF11: OK | AG11: OK | AH11: OK | AI11: OK | AJ11: D | AK11: OK | AL11: OK | AM11: OK | AO11: =COUNTIF($J11:$AM11,AO$7) -> 0 | AP11: =COUNTIF($J11:$AM11,AP$7) -> 0 | AQ11: =COUNTIF($J11:$AM11,AQ$7) -> 6 | AR11: =COUNTIF($J11:$AM11,AR$7) -> 0 | AS11: =COUNTIF($J11:$AM11,AS$7) -> 0 | AT11: =COUNTIF($J11:$AM11,AT$7) -> 0 | AU11: =COUNTIF($J11:$AM11,AU$7) -> 0 | AV11: =COUNTIF($J11:$AM11,AV$7) -> 0 | ... BA11: =COUNTIF($J11:$AM11,BA$7) -> 24 | BB11: =+BA11+AQ11 -> 30 | BD11: 30
B12: 4 | C12: 52927563 | D12: BAENA JIMENEZ GINA ISABEL | E12: LILIANA - JOHANNA | F12: Operario de aseo y cafetería | G12: SEDE 1 - MANZANA LIEVANO - ALCALDÍA MAYOR | H12: 3223120404 | I12: 18/10/2025 | J12: OK | K12: OK | L12: OK | M12: OK | N12: D | O12: OK | P12: OK | Q12: OK | R12: OK | S12: OK | T12: OK | U12: D | V12: D | W12: OK | X12: OK | Y12: OK | Z12: OK | AA12: OK | AB12: D | AC12: D | AD12: OK | AE12: OK | AF12: OK | AG12: OK | AH12: OK | AI12: OK | AJ12: D | AK12: OK | AL12: OK | AM12: OK | AO12: =COUNTIF($J12:$AM12,AO$7) -> 0 | AP12: =COUNTIF($J12:$AM12,AP$7) -> 0 | AQ12: =COUNTIF($J12:$AM12,AQ$7) -> 6 | AR12: =COUNTIF($J12:$AM12,AR$7) -> 0 | AS12: =COUNTIF($J12:$AM12,AS$7) -> 0 | AT12: =COUNTIF($J12:$AM12,AT$7) -> 0 | AU12: =COUNTIF($J12:$AM12,AU$7) -> 0 | AV12: =COUNTIF($J12:$AM12,AV$7) -> 0 | ... BA12: =COUNTIF($J12:$AM12,BA$7) -> 24 | BB12: =+BA12+AQ12 -> 30 | BD12: 30
B13: 5 | C13: 79453613 | D13: MEDINA ANGEL GILBERTO | E13: LILIANA - JOHANNA | F13: Operario de mantenimiento | G13: SEDE 1 - MANZANA LIEVANO - ALCALDÍA MAYOR | H13: 3123921438 | I13: 18/10/2025 | J13: OK | K13: OK | L13: OK | M13: OK | N13: D | O13: OK | P13: OK | Q13: OK | R13: OK | S13: OK | T13: OK | U13: D | V13: D | W13: OK | X13: OK | Y13: OK | Z13: OK | AA13: OK | AB13: D | AC13: D | AD13: OK | AE13: OK | AF13: OK | AG13: OK | AH13: OK | AI13: OK | AJ13: D | AK13: OK | AL13: OK | AM13: OK | AO13: =COUNTIF($J13:$AM13,AO$7) -> 0 | AP13: =COUNTIF($J13:$AM13,AP$7) -> 0 | AQ13: =COUNTIF($J13:$AM13,AQ$7) -> 6 | AR13: =COUNTIF($J13:$AM13,AR$7) -> 0 | AS13: =COUNTIF($J13:$AM13,AS$7) -> 0 | AT13: =COUNTIF($J13:$AM13,AT$7) -> 0 | AU13: =COUNTIF($J13:$AM13,AU$7) -> 0 | AV13: =COUNTIF($J13:$AM13,AV$7) -> 0 | ... BA13: =COUNTIF($J13:$AM13,BA$7) -> 24 | BB13: =+BA13+AQ13 -> 30 | BD13: 30
B14: 6 | C14: 1045227589 | D14: JIMENEZ POLO ANA LUCIA | E14: LILIANA - JOHANNA | F14: Operario de aseo y cafetería | G14: SEDE 1 - MANZANA LIEVANO - ALCALDÍA MAYOR | H14: 3245191705 | I14: 18/10/2025 | J14: OK | K14: OK | L14: OK | M14: OK | N14: D | O14: OK | P14: OK | Q14: OK | R14: OK | S14: OK | T14: OK | U14: D | V14: D | W14: OK | X14: OK | Y14: OK | Z14: OK | AA14: OK | AB14: D | AC14: D | AD14: OK | AE14: OK | AF14: OK | AG14: OK | AH14: OK | AI14: OK | AJ14: D | AK14: OK | AL14: OK | AM14: OK | AO14: =COUNTIF($J14:$AM14,AO$7) -> 0 | AP14: =COUNTIF($J14:$AM14,AP$7) -> 0 | AQ14: =COUNTIF($J14:$AM14,AQ$7) -> 6 | AR14: =COUNTIF($J14:$AM14,AR$7) -> 0 | AS14: =COUNTIF($J14:$AM14,AS$7) -> 0 | AT14: =COUNTIF($J14:$AM14,AT$7) -> 0 | AU14: =COUNTIF($J14:$AM14,AU$7) -> 0 | AV14: =COUNTIF($J14:$AM14,AV$7) -> 0 | ... BA14: =COUNTIF($J14:$AM14,BA$7) -> 24 | BB14: =+BA14+AQ14 -> 30 | BD14: 30
B15: 7 | C15: 1065626457 | D15: ROMERO SERRANO JAIME LUIS | E15: LILIANA - JOHANNA | F15: Operario de mantenimiento | G15: SEDE 1 - MANZANA LIEVANO - ALCALDÍA MAYOR | H15: 3206857725 | I15: 18/10/2025 | J15: OK | K15: OK | L15: OK | M15: OK | N15: D | O15: OK | P15: OK | Q15: OK | R15: OK | S15: OK | T15: OK | U15: D | V15: D | W15: OK | X15: OK | Y15: OK | Z15: OK | AA15: OK | AB15: D | AC15: D | AD15: OK | AE15: OK | AF15: OK | AG15: OK | AH15: OK | AI15: OK | AJ15: D | AK15: OK | AL15: OK | AM15: OK | AO15: =COUNTIF($J15:$AM15,AO$7) -> 0 | AP15: =COUNTIF($J15:$AM15,AP$7) -> 0 | AQ15: =COUNTIF($J15:$AM15,AQ$7) -> 6 | AR15: =COUNTIF($J15:$AM15,AR$7) -> 0 | AS15: =COUNTIF($J15:$AM15,AS$7) -> 0 | AT15: =COUNTIF($J15:$AM15,AT$7) -> 0 | AU15: =COUNTIF($J15:$AM15,AU$7) -> 0 | AV15: =COUNTIF($J15:$AM15,AV$7) -> 0 | ... BA15: =COUNTIF($J15:$AM15,BA$7) -> 24 | BB15: =+BA15+AQ15 -> 30 | BD15: 30
B16: 8 | C16: 52164356 | D16: CATUCHE PIAMBA LUZ MARINA | E16: LILIANA - JOHANNA | F16: Operario de aseo y cafetería | G16: SEDE 1 - MANZANA LIEVANO - ALCALDÍA MAYOR | H16: 3202450652 | I16: 18/10/2025 | J16: OK | K16: OK | L16: OK | M16: OK | N16: D | O16: OK | P16: OK | Q16: OK | R16: OK | S16: OK | T16: OK | U16: D | V16: D | W16: OK | X16: OK | Y16: OK | Z16: OK | AA16: OK | AB16: D | AC16: D | AD16: OK | AE16: OK | AF16: OK | AG16: OK | AH16: OK | AI16: OK | AJ16: D | AK16: OK | AL16: OK | AM16: OK | AO16: =COUNTIF($J16:$AM16,AO$7) -> 0 | AP16: =COUNTIF($J16:$AM16,AP$7) -> 0 | AQ16: =COUNTIF($J16:$AM16,AQ$7) -> 6 | AR16: =COUNTIF($J16:$AM16,AR$7) -> 0 | AS16: =COUNTIF($J16:$AM16,AS$7) -> 0 | AT16: =COUNTIF($J16:$AM16,AT$7) -> 0 | AU16: =COUNTIF($J16:$AM16,AU$7) -> 0 | AV16: =COUNTIF($J16:$AM16,AV$7) -> 0 | ... BA16: =COUNTIF($J16:$AM16,BA$7) -> 24 | BB16: =+BA16+AQ16 -> 30 | BD16: 30
B17: 9 | C17: 65788478 | D17: AROCA AROCA ANA ELIZA | E17: LILIANA - JOHANNA | F17: Operario de aseo y cafetería | G17: SEDE 1 - MANZANA LIEVANO - ALCALDÍA MAYOR | H17: 3114512807 | I17: 22/10/2025 | J17: OK | K17: OK | L17: OK | M17: OK | N17: D | O17: OK | P17: OK | Q17: OK | R17: OK | S17: OK | T17: OK | U17: D | V17: D | W17: OK | X17: OK | Y17: OK | Z17: OK | AA17: OK | AB17: D | AC17: D | AD17: OK | AE17: OK | AF17: OK | AG17: OK | AH17: OK | AI17: OK | AJ17: D | AK17: OK | AL17: OK | AM17: OK | AO17: =COUNTIF($J17:$AM17,AO$7) -> 0 | AP17: =COUNTIF($J17:$AM17,AP$7) -> 0 | AQ17: =COUNTIF($J17:$AM17,AQ$7) -> 6 | AR17: =COUNTIF($J17:$AM17,AR$7) -> 0 | AS17: =COUNTIF($J17:$AM17,AS$7) -> 0 | AT17: =COUNTIF($J17:$AM17,AT$7) -> 0 | AU17: =COUNTIF($J17:$AM17,AU$7) -> 0 | AV17: =COUNTIF($J17:$AM17,AV$7) -> 0 | ... BA17: =COUNTIF($J17:$AM17,BA$7) -> 24 | BB17: =+BA17+AQ17 -> 30 | BD17: 30
B18: 10 | C18: 52886419 | D18: MONTEJO LINA MARIA | E18: LILIANA - JOHANNA | F18: Operario de aseo y cafetería | G18: SEDE 1 - MANZANA LIEVANO - ALCALDÍA MAYOR | H18: 3216148373 | I18: 18/10/2025 | J18: OK | K18: OK | L18: OK | M18: OK | N18: D | O18: OK | P18: OK | Q18: OK | R18: OK | S18: OK | T18: OK | U18: D | V18: D | W18: OK | X18: OK | Y18: OK | Z18: OK | AA18: OK | AB18: D | AC18: D | AD18: OK | AE18: OK | AF18: OK | AG18: OK | AH18: OK | AI18: OK | AJ18: D | AK18: OK | AL18: OK | AM18: OK | AO18: =COUNTIF($J18:$AM18,AO$7) -> 0 | AP18: =COUNTIF($J18:$AM18,AP$7) -> 0 | AQ18: =COUNTIF($J18:$AM18,AQ$7) -> 6 | AR18: =COUNTIF($J18:$AM18,AR$7) -> 0 | AS18: =COUNTIF($J18:$AM18,AS$7) -> 0 | AT18: =COUNTIF($J18:$AM18,AT$7) -> 0 | AU18: =COUNTIF($J18:$AM18,AU$7) -> 0 | AV18: =COUNTIF($J18:$AM18,AV$7) -> 0 | ... BA18: =COUNTIF($J18:$AM18,BA$7) -> 24 | BB18: =+BA18+AQ18 -> 30 | BD18: 30
B19: 11 | C19: 1001171553 | D19: GONZALEZ GUTIERREZ MICHAEL STIVEN | E19: LILIANA - JOHANNA | F19: Operario de mantenimiento | G19: SEDE 1 - MANZANA LIEVANO - ALCALDÍA MAYOR | H19: 3204873500 | I19: 18/10/2025 | J19: OK | K19: OK | L19: OK | M19: OK | N19: D | O19: OK | P19: OK | Q19: OK | R19: OK | S19: OK | T19: OK | U19: D | V19: D | W19: OK | X19: OK | Y19: OK | Z19: OK | AA19: OK | AB19: D | AC19: D | AD19: OK | AE19: OK | AF19: OK | AG19: OK | AH19: OK | AI19: OK | AJ19: D | AK19: OK | AL19: OK | AM19: OK | AO19: =COUNTIF($J19:$AM19,AO$7) -> 0 | AP19: =COUNTIF($J19:$AM19,AP$7) -> 0 | AQ19: =COUNTIF($J19:$AM19,AQ$7) -> 6 | AR19: =COUNTIF($J19:$AM19,AR$7) -> 0 | AS19: =COUNTIF($J19:$AM19,AS$7) -> 0 | AT19: =COUNTIF($J19:$AM19,AT$7) -> 0 | AU19: =COUNTIF($J19:$AM19,AU$7) -> 0 | AV19: =COUNTIF($J19:$AM19,AV$7) -> 0 | ... BA19: =COUNTIF($J19:$AM19,BA$7) -> 24 | BB19: =+BA19+AQ19 -> 30 | BD19: 30
B20: 12 | C20: 52028199 | D20: LADINO ARDILA DAMARIS | E20: LILIANA - JOHANNA | F20: Operario de aseo y cafetería | G20: SEDE 2- DIRECCIÓN DISTRITAL DE ARCHIVO DE BOGOTA | H20: 3102549778 | I20: 18/10/2025 | J20: OK | K20: OK | L20: OK | M20: OK | N20: D | O20: OK | P20: OK | Q20: OK | R20: OK | S20: OK | T20: OK | U20: D | V20: D | W20: OK | X20: OK | Y20: OK | Z20: OK | AA20: OK | AB20: D | AC20: D | AD20: OK | AE20: OK | AF20: OK | AG20: OK | AH20: OK | AI20: OK | AJ20: D | AK20: OK | AL20: OK | AM20: OK | AO20: =COUNTIF($J20:$AM20,AO$7) -> 0 | AP20: =COUNTIF($J20:$AM20,AP$7) -> 0 | AQ20: =COUNTIF($J20:$AM20,AQ$7) -> 6 | AR20: =COUNTIF($J20:$AM20,AR$7) -> 0 | AS20: =COUNTIF($J20:$AM20,AS$7) -> 0 | AT20: =COUNTIF($J20:$AM20,AT$7) -> 0 | AU20: =COUNTIF($J20:$AM20,AU$7) -> 0 | AV20: =COUNTIF($J20:$AM20,AV$7) -> 0 | ... BA20: =COUNTIF($J20:$AM20,BA$7) -> 24 | BB20: =+BA20+AQ20 -> 30 | BD20: 30
... B57: 49 | C57: 1033773795 | D57: BARRERA INGRI | E57: LILIANA - JOHANNA | F57: Operario de aseo y cafetería | G57: SEDE 1 - MANZANA LIEVANO - ALCALDÍA MAYOR | H57: 3108832491 | I57: 25/03/2026 | J57: OK | K57: OK | L57: OK | M57: OK | N57: D | O57: OK | P57: OK | Q57: OK | R57: OK | S57: OK | T57: OK | U57: D | V57: D | W57: OK | X57: OK | Y57: OK | Z57: INC | AA57: INC | AB57: D | AC57: D | AD57: CD | AE57: OK | AF57: OK | AG57: OK | AH57: OK | AI57: OK | AJ57: D | AK57: OK | AL57: OK | AM57: OK | AO57: =COUNTIF($J57:$AM57,AO$7) -> 0 | AP57: =COUNTIF($J57:$AM57,AP$7) -> 0 | AQ57: =COUNTIF($J57:$AM57,AQ$7) -> 6 | AR57: =COUNTIF($J57:$AM57,AR$7) -> 2 | AS57: =COUNTIF($J57:$AM57,AS$7) -> 0 | AT57: =COUNTIF($J57:$AM57,AT$7) -> 0 | AU57: =COUNTIF($J57:$AM57,AU$7) -> 0 | AV57: =COUNTIF($J57:$AM57,AV$7) -> 1 | ... BA57: =COUNTIF($J57:$AM57,BA$7) -> 21 | BB57: =+BA57+AQ57 -> 27 | BD57: 30
B58: 50 | C58: 1023941323 | D58: AMAYA DIAZ YURI LISETH | E58: LILIANA - JOHANNA | F58: Operario de aseo y cafetería | G58: SEDE 1 - MANZANA LIEVANO - ALCALDÍA MAYOR | H58: 3204487421 | I58: 07/07/2026 | J58: 0 | K58: 0 | L58: 0 | M58: 0 | N58: 0 | O58: 0 | P58: OK | Q58: OK | R58: OK | S58: OK | T58: OK | U58: D | V58: D | W58: OK | X58: OK | Y58: OK | Z58: OK | AA58: OK | AB58: D | AC58: D | AD58: OK | AE58: OK | AF58: OK | AG58: OK | AH58: OK | AI58: OK | AJ58: D | AK58: OK | AL58: OK | AM58: OK | AO58: =COUNTIF($J58:$AM58,AO$7) -> 0 | AP58: =COUNTIF($J58:$AM58,AP$7) -> 0 | AQ58: =COUNTIF($J58:$AM58,AQ$7) -> 5 | AR58: =COUNTIF($J58:$AM58,AR$7) -> 0 | AS58: =COUNTIF($J58:$AM58,AS$7) -> 0 | AT58: =COUNTIF($J58:$AM58,AT$7) -> 0 | AU58: =COUNTIF($J58:$AM58,AU$7) -> 0 | AV58: =COUNTIF($J58:$AM58,AV$7) -> 0 | ... BA58: =COUNTIF($J58:$AM58,BA$7) -> 19 | BB58: =+BA58+AQ58 -> 24 | BD58: 24
B59: 51 | C59: 53891891 | D59: ORTIZ MOJICA HEIDY YELENY | E59: LILIANA - JOHANNA | F59: Operario de aseo y cafetería | G59: SEDE 1 - MANZANA LIEVANO - ALCALDÍA MAYOR | H59: 3192455998 | I59: 07/07/2026 | J59: 0 | K59: 0 | L59: 0 | M59: 0 | N59: 0 | O59: 0 | P59: OK | Q59: OK | R59: OK | S59: OK | T59: OK | U59: D | V59: D | W59: OK | X59: OK | Y59: OK | Z59: OK | AA59: OK | AB59: D | AC59: D | AD59: OK | AE59: OK | AF59: OK | AG59: OK | AH59: OK | AI59: OK | AJ59: D | AK59: OK | AL59: OK | AM59: OK | AO59: =COUNTIF($J59:$AM59,AO$7) -> 0 | AP59: =COUNTIF($J59:$AM59,AP$7) -> 0 | AQ59: =COUNTIF($J59:$AM59,AQ$7) -> 5 | AR59: =COUNTIF($J59:$AM59,AR$7) -> 0 | AS59: =COUNTIF($J59:$AM59,AS$7) -> 0 | AT59: =COUNTIF($J59:$AM59,AT$7) -> 0 | AU59: =COUNTIF($J59:$AM59,AU$7) -> 0 | AV59: =COUNTIF($J59:$AM59,AV$7) -> 0 | ... BA59: =COUNTIF($J59:$AM59,BA$7) -> 19 | BB59: =+BA59+AQ59 -> 24 | BD59: 24
B60: 52 | C60: 52197407 | D60: BERNAL AVILA LUZ YEY | E60: LILIANA - JOHANNA | F60: Operario de aseo y cafetería | G60: SEDE 1 - MANZANA LIEVANO - ALCALDÍA MAYOR | H60: 3238979217 | I60: 07/07/2026 | J60: 0 | K60: 0 | L60: 0 | M60: 0 | N60: 0 | O60: 0 | P60: OK | Q60: OK | R60: OK | S60: OK | T60: OK | U60: D | V60: D | W60: OK | X60: OK | Y60: OK | Z60: OK | AA60: OK | AB60: D | AC60: D | AD60: OK | AE60: OK | AF60: OK | AG60: OK | AH60: OK | AI60: OK | AJ60: D | AK60: OK | AL60: OK | AM60: OK | AO60: =COUNTIF($J60:$AM60,AO$7) -> 0 | AP60: =COUNTIF($J60:$AM60,AP$7) -> 0 | AQ60: =COUNTIF($J60:$AM60,AQ$7) -> 5 | AR60: =COUNTIF($J60:$AM60,AR$7) -> 0 | AS60: =COUNTIF($J60:$AM60,AS$7) -> 0 | AT60: =COUNTIF($J60:$AM60,AT$7) -> 0 | AU60: =COUNTIF($J60:$AM60,AU$7) -> 0 | AV60: =COUNTIF($J60:$AM60,AV$7) -> 0 | ... BA60: =COUNTIF($J60:$AM60,BA$7) -> 19 | BB60: =+BA60+AQ60 -> 24 | BD60: 24
B61: 53 | C61: 53128765 | D61: PULIDO PULIDO HEIDY ANDREA | E61: LILIANA - JOHANNA | F61: Operario de aseo y cafetería | G61: SEDE 1 - MANZANA LIEVANO - ALCALDÍA MAYOR | H61: 3114769963 | I61: 25/03/2026 | J61: OK | K61: OK | L61: OK | M61: OK | N61: D | O61: OK | P61: OK | Q61: OK | R61: OK | S61: OK | T61: OK | U61: D | V61: D | W61: OK | X61: OK | Y61: OK | Z61: OK | AA61: OK | AB61: D | AC61: D | AD61: OK | AE61: OK | AF61: OK | AG61: OK | AH61: OK | AI61: OK | AJ61: D | AK61: OK | AL61: OK | AM61: OK | AO61: =COUNTIF($J61:$AM61,AO$7) -> 0 | AP61: =COUNTIF($J61:$AM61,AP$7) -> 0 | AQ61: =COUNTIF($J61:$AM61,AQ$7) -> 6 | AR61: =COUNTIF($J61:$AM61,AR$7) -> 0 | AS61: =COUNTIF($J61:$AM61,AS$7) -> 0 | AT61: =COUNTIF($J61:$AM61,AT$7) -> 0 | AU61: =COUNTIF($J61:$AM61,AU$7) -> 0 | AV61: =COUNTIF($J61:$AM61,AV$7) -> 0 | ... BA61: =COUNTIF($J61:$AM61,BA$7) -> 24 | BB61: =+BA61+AQ61 -> 30 | BD61: 30
B62: 54 | C62: 80802120 | D62: RUIZ PENA DIEGO ARMANDO | E62: LILIANA - JOHANNA | F62: Operario de mantenimiento | G62: SEDE 1 - MANZANA LIEVANO - ALCALDÍA MAYOR | H62: 3054585093 | I62: 06/04/2026 | J62: OK | K62: OK | L62: OK | M62: OK | N62: D | O62: OK | P62: INC | Q62: INC | R62: OK | S62: OK | T62: OK | U62: D | V62: D | W62: OK | X62: OK | Y62: OK | Z62: OK | AA62: OK | AB62: D | AC62: D | AD62: OK | AE62: OK | AF62: OK | AG62: OK | AH62: OK | AI62: OK | AJ62: D | AK62: OK | AL62: OK | AM62: OK | AO62: =COUNTIF($J62:$AM62,AO$7) -> 0 | AP62: =COUNTIF($J62:$AM62,AP$7) -> 0 | AQ62: =COUNTIF($J62:$AM62,AQ$7) -> 6 | AR62: =COUNTIF($J62:$AM62,AR$7) -> 2 | AS62: =COUNTIF($J62:$AM62,AS$7) -> 0 | AT62: =COUNTIF($J62:$AM62,AT$7) -> 0 | AU62: =COUNTIF($J62:$AM62,AU$7) -> 0 | AV62: =COUNTIF($J62:$AM62,AV$7) -> 0 | ... BA62: =COUNTIF($J62:$AM62,BA$7) -> 22 | BB62: =+BA62+AQ62 -> 28 | BD62: 30
B63: 55 | C63: 1028860401 | D63: VEGA MANFULA YEYSON YOTSUA | E63: LILIANA - JOHANNA | F63: Jardinero | G63: SEDE 3 - IMPRENTA DISTRITAL | H63: 3115389988 | I63: 18/10/2025 | J63: OK | K63: OK | L63: OK | M63: OK | N63: D | O63: OK | P63: OK | Q63: OK | R63: OK | S63: OK | T63: OK | U63: D | V63: D | W63: OK | X63: OK | Y63: OK | Z63: OK | AA63: OK | AB63: D | AC63: D | AD63: OK | AE63: OK | AF63: OK | AG63: OK | AH63: OK | AI63: OK | AJ63: D | AK63: OK | AL63: OK | AM63: OK | AO63: =COUNTIF($J63:$AM63,AO$7) -> 0 | AP63: =COUNTIF($J63:$AM63,AP$7) -> 0 | AQ63: =COUNTIF($J63:$AM63,AQ$7) -> 6 | AR63: =COUNTIF($J63:$AM63,AR$7) -> 0 | AS63: =COUNTIF($J63:$AM63,AS$7) -> 0 | AT63: =COUNTIF($J63:$AM63,AT$7) -> 0 | AU63: =COUNTIF($J63:$AM63,AU$7) -> 0 | AV63: =COUNTIF($J63:$AM63,AV$7) -> 0 | ... BA63: =COUNTIF($J63:$AM63,BA$7) -> 24 | BB63: =+BA63+AQ63 -> 30 | BD63: 30
B64: 56 | C64: 1015392867 | D64: PINZON RIVERA OSCAR GIOVANNY | E64: LILIANA - JOHANNA | F64: Operario de mantenimiento | G64: SEDE 1 - MANZANA LIEVANO - ALCALDÍA MAYOR | H64: 3209777575 | I64: 25/05/2026 | J64: OK | K64: OK | L64: OK | M64: OK | N64: D | O64: OK | P64: OK | Q64: OK | R64: OK | S64: OK | T64: OK | U64: D | V64: D | W64: OK | X64: OK | Y64: OK | Z64: OK | AA64: OK | AB64: D | AC64: D | AD64: OK | AE64: OK | AF64: OK | AG64: OK | AH64: OK | AI64: OK | AJ64: D | AK64: OK | AL64: OK | AM64: OK | AO64: =COUNTIF($J64:$AM64,AO$7) -> 0 | AP64: =COUNTIF($J64:$AM64,AP$7) -> 0 | AQ64: =COUNTIF($J64:$AM64,AQ$7) -> 6 | AR64: =COUNTIF($J64:$AM64,AR$7) -> 0 | AS64: =COUNTIF($J64:$AM64,AS$7) -> 0 | AT64: =COUNTIF($J64:$AM64,AT$7) -> 0 | AU64: =COUNTIF($J64:$AM64,AU$7) -> 0 | AV64: =COUNTIF($J64:$AM64,AV$7) -> 0 | ... BA64: =COUNTIF($J64:$AM64,BA$7) -> 24 | BB64: =+BA64+AQ64 -> 30 | BD64: 30
B65: 57 | C65: 1010219099 | D65: QUINTERO YENNY KATHERINE | E65: LILIANA - JOHANNA | F65: Operario de aseo y cafetería | G65: SEDE 4 - SEDE ALTERNA RESTREPO | H65: 3138720037 | I65: 18/10/2025 | J65: OK | K65: OK | L65: OK | M65: OK | N65: D | O65: OK | P65: OK | Q65: OK | R65: OK | S65: OK | T65: OK | U65: D | V65: D | W65: OK | X65: OK | Y65: OK | Z65: OK | AA65: OK | AB65: D | AC65: D | AD65: OK | AE65: OK | AF65: OK | AG65: OK | AH65: OK | AI65: OK | AJ65: D | AK65: OK | AL65: OK | AM65: OK | AO65: =COUNTIF($J65:$AM65,AO$7) -> 0 | AP65: =COUNTIF($J65:$AM65,AP$7) -> 0 | AQ65: =COUNTIF($J65:$AM65,AQ$7) -> 6 | AR65: =COUNTIF($J65:$AM65,AR$7) -> 0 | AS65: =COUNTIF($J65:$AM65,AS$7) -> 0 | AT65: =COUNTIF($J65:$AM65,AT$7) -> 0 | AU65: =COUNTIF($J65:$AM65,AU$7) -> 0 | AV65: =COUNTIF($J65:$AM65,AV$7) -> 0 | ... BA65: =COUNTIF($J65:$AM65,BA$7) -> 24 | BB65: =+BA65+AQ65 -> 30 | BD65: 30
B66: 58 | C66: 51990667 | D66: MARTINEZ ROMERO MIRIAM | E66: LILIANA - JOHANNA | F66: Operario de aseo y cafetería | G66: SEDE 1 - MANZANA LIEVANO - ALCALDÍA MAYOR | H66: 3103180180 | I66: 22/10/2025 | J66: OK | K66: OK | L66: OK | M66: OK | N66: D | O66: OK | P66: OK | Q66: OK | R66: OK | S66: OK | T66: OK | U66: D | V66: D | W66: OK | X66: OK | Y66: OK | Z66: OK | AA66: OK | AB66: D | AC66: D | AD66: OK | AE66: OK | AF66: OK | AG66: OK | AH66: OK | AI66: OK | AJ66: D | AK66: OK | AL66: OK | AM66: OK | AO66: =COUNTIF($J66:$AM66,AO$7) -> 0 | AP66: =COUNTIF($J66:$AM66,AP$7) -> 0 | AQ66: =COUNTIF($J66:$AM66,AQ$7) -> 6 | AR66: =COUNTIF($J66:$AM66,AR$7) -> 0 | AS66: =COUNTIF($J66:$AM66,AS$7) -> 0 | AT66: =COUNTIF($J66:$AM66,AT$7) -> 0 | AU66: =COUNTIF($J66:$AM66,AU$7) -> 0 | AV66: =COUNTIF($J66:$AM66,AV$7) -> 0 | ... BA66: =COUNTIF($J66:$AM66,BA$7) -> 24 | BB66: =+BA66+AQ66 -> 30 | BD66: 30
B67: 59 | C67: 52120222 | D67: GALEANO CARDOZO CLAUDIA | E67: LILIANA - JOHANNA | F67: Operario de aseo y cafetería | G67: SEDE 1 - MANZANA LIEVANO - ALCALDÍA MAYOR | H67: 3214522349 | I67: 10/04/2026 | J67: OK | K67: OK | L67: OK | M67: OK | N67: D | O67: OK | P67: OK | Q67: OK | R67: OK | S67: OK | T67: OK | U67: D | V67: D | W67: OK | X67: OK | Y67: OK | Z67: OK | AA67: OK | AB67: D | AC67: D | AD67: OK | AE67: OK | AF67: OK | AG67: OK | AH67: OK | AI67: OK | AJ67: D | AK67: OK | AL67: OK | AM67: OK | AO67: =COUNTIF($J67:$AM67,AO$7) -> 0 | AP67: =COUNTIF($J67:$AM67,AP$7) -> 0 | AQ67: =COUNTIF($J67:$AM67,AQ$7) -> 6 | AR67: =COUNTIF($J67:$AM67,AR$7) -> 0 | AS67: =COUNTIF($J67:$AM67,AS$7) -> 0 | AT67: =COUNTIF($J67:$AM67,AT$7) -> 0 | AU67: =COUNTIF($J67:$AM67,AU$7) -> 0 | AV67: =COUNTIF($J67:$AM67,AV$7) -> 0 | ... BA67: =COUNTIF($J67:$AM67,BA$7) -> 24 | BB67: =+BA67+AQ67 -> 30 | BD67: 30
B68: 60 | C68: 1023882611 | D68: RODRIGUEZ ZEA CINDY YAZMIN | E68: LILIANA - JOHANNA | F68: Operario de aseo y cafetería | G68: SEDE 2- DIRECCIÓN DISTRITAL DE ARCHIVO DE BOGOTA | H68: 3206838202 | I68: 18/10/2025 | J68: OK | K68: OK | L68: OK | M68: OK | N68: D | O68: OK | P68: OK | Q68: OK | R68: OK | S68: OK | T68: OK | U68: D | V68: D | W68: OK | X68: OK | Y68: OK | Z68: OK | AA68: OK | AB68: D | AC68: D | AD68: OK | AE68: OK | AF68: OK | AG68: OK | AH68: OK | AI68: OK | AJ68: D | AK68: OK | AL68: OK | AM68: OK | AO68: =COUNTIF($J68:$AM68,AO$7) -> 0 | AP68: =COUNTIF($J68:$AM68,AP$7) -> 0 | AQ68: =COUNTIF($J68:$AM68,AQ$7) -> 6 | AR68: =COUNTIF($J68:$AM68,AR$7) -> 0 | AS68: =COUNTIF($J68:$AM68,AS$7) -> 0 | AT68: =COUNTIF($J68:$AM68,AT$7) -> 0 | AU68: =COUNTIF($J68:$AM68,AU$7) -> 0 | AV68: =COUNTIF($J68:$AM68,AV$7) -> 0 | ... BA68: =COUNTIF($J68:$AM68,BA$7) -> 24 | BB68: =+BA68+AQ68 -> 30 | BD68: 30
B69: 61 | C69: 52339253 | D69: CANTE MELO NELLY FARID | E69: LILIANA - JOHANNA | F69: Operario de aseo y cafetería | G69: SEDE 1 - MANZANA LIEVANO - ALCALDÍA MAYOR | H69: 3242549695 | I69: 18/10/2025 | J69: OK | K69: OK | L69: OK | M69: OK | N69: D | O69: OK | P69: OK | Q69: OK | R69: OK | S69: OK | T69: OK | U69: D | V69: D | W69: OK | X69: OK | Y69: OK | Z69: OK | AA69: OK | AB69: D | AC69: D | AD69: OK | AE69: OK | AF69: OK | AG69: OK | AH69: OK | AI69: OK | AJ69: D | AK69: OK | AL69: OK | AM69: OK | AO69: =COUNTIF($J69:$AM69,AO$7) -> 0 | AP69: =COUNTIF($J69:$AM69,AP$7) -> 0 | AQ69: =COUNTIF($J69:$AM69,AQ$7) -> 6 | AR69: =COUNTIF($J69:$AM69,AR$7) -> 0 | AS69: =COUNTIF($J69:$AM69,AS$7) -> 0 | AT69: =COUNTIF($J69:$AM69,AT$7) -> 0 | AU69: =COUNTIF($J69:$AM69,AU$7) -> 0 | AV69: =COUNTIF($J69:$AM69,AV$7) -> 0 | ... BA69: =COUNTIF($J69:$AM69,BA$7) -> 24 | BB69: =+BA69+AQ69 -> 30 | BD69: 30
B70: 62 | C70: 79771060 | D70: CITA MARTINEZ ORLANDO | E70: LILIANA - JOHANNA | F70: Jardinero | G70: SEDE 1 - MANZANA LIEVANO - ALCALDÍA MAYOR | H70: 3214213047 | I70: 18/10/2025 | J70: OK | K70: OK | L70: OK | M70: OK | N70: D | O70: OK | P70: OK | Q70: OK | R70: OK | S70: OK | T70: OK | U70: D | V70: D | W70: OK | X70: OK | Y70: OK | Z70: OK | AA70: OK | AB70: D | AC70: D | AD70: OK | AE70: OK | AF70: OK | AG70: OK | AH70: OK | AI70: OK | AJ70: D | AK70: OK | AL70: OK | AM70: OK | AO70: =COUNTIF($J70:$AM70,AO$7) -> 0 | AP70: =COUNTIF($J70:$AM70,AP$7) -> 0 | AQ70: =COUNTIF($J70:$AM70,AQ$7) -> 6 | AR70: =COUNTIF($J70:$AM70,AR$7) -> 0 | AS70: =COUNTIF($J70:$AM70,AS$7) -> 0 | AT70: =COUNTIF($J70:$AM70,AT$7) -> 0 | AU70: =COUNTIF($J70:$AM70,AU$7) -> 0 | AV70: =COUNTIF($J70:$AM70,AV$7) -> 0 | ... BA70: =COUNTIF($J70:$AM70,BA$7) -> 24 | BB70: =+BA70+AQ70 -> 30 | BD70: 30
A71: REPETIDO | B71: 63 | C71: 52973150 | D71: YANGUMA NINI YOANA | E71: LILIANA - JOHANNA | F71: Operario de aseo y cafetería | G71: SEDE 1 - MANZANA LIEVANO - ALCALDÍA MAYOR | H71: 3213976040 | I71: 21/10/2025 | J71: TS | K71: TS | L71: TS | M71: TS | N71: TS | O71: TS | P71: OK | Q71: OK | R71: OK | S71: OK | T71: OK | U71: D | V71: D | W71: OK | X71: OK | Y71: OK | Z71: OK | AA71: OK | AB71: D | AC71: D | AD71: OK | AE71: OK | AF71: OK | AG71: OK | AH71: OK | AI71: OK | AJ71: D | AK71: OK | AL71: OK | AM71: OK | AO71: =COUNTIF($J71:$AM71,AO$7) -> 0 | AP71: =COUNTIF($J71:$AM71,AP$7) -> 0 | AQ71: =COUNTIF($J71:$AM71,AQ$7) -> 5 | AR71: =COUNTIF($J71:$AM71,AR$7) -> 0 | AS71: =COUNTIF($J71:$AM71,AS$7) -> 0 | AT71: =COUNTIF($J71:$AM71,AT$7) -> 0 | AU71: =COUNTIF($J71:$AM71,AU$7) -> 0 | AV71: =COUNTIF($J71:$AM71,AV$7) -> 0 | ... BA71: =COUNTIF($J71:$AM71,BA$7) -> 19 | BB71: =+BA71+AQ71 -> 24 | BD71: 30
B72: 64 | C72: 1128053736 | D72: PAJARO PANIZZA MARIANA DEJESUS | E72: LILIANA - JOHANNA | F72: Operario de aseo y cafetería | G72: SEDE 1 - MANZANA LIEVANO - ALCALDÍA MAYOR | H72: 3223884422 | I72: 18/10/2025 | J72: OK | K72: OK | L72: OK | M72: OK | N72: D | O72: OK | P72: OK | Q72: OK | R72: OK | S72: OK | T72: OK | U72: D | V72: D | W72: OK | X72: OK | Y72: OK | Z72: OK | AA72: OK | AB72: D | AC72: D | AD72: OK | AE72: OK | AF72: OK | AG72: OK | AH72: OK | AI72: OK | AJ72: D | AK72: OK | AL72: OK | AM72: OK | AO72: =COUNTIF($J72:$AM72,AO$7) -> 0 | AP72: =COUNTIF($J72:$AM72,AP$7) -> 0 | AQ72: =COUNTIF($J72:$AM72,AQ$7) -> 6 | AR72: =COUNTIF($J72:$AM72,AR$7) -> 0 | AS72: =COUNTIF($J72:$AM72,AS$7) -> 0 | AT72: =COUNTIF($J72:$AM72,AT$7) -> 0 | AU72: =COUNTIF($J72:$AM72,AU$7) -> 0 | AV72: =COUNTIF($J72:$AM72,AV$7) -> 0 | ... BA72: =COUNTIF($J72:$AM72,BA$7) -> 24 | BB72: =+BA72+AQ72 -> 30 | BD72: 30
